BEGIN:VCALENDAR
VERSION:2.0
PRODID:-//Bartram Trail Society of Florida - ECPv6.15.20//NONSGML v1.0//EN
CALSCALE:GREGORIAN
METHOD:PUBLISH
X-WR-CALNAME:Bartram Trail Society of Florida
X-ORIGINAL-URL:https://bartramtrailsociety.com
X-WR-CALDESC:Events for Bartram Trail Society of Florida
REFRESH-INTERVAL;VALUE=DURATION:PT1H
X-Robots-Tag:noindex
X-PUBLISHED-TTL:PT1H
BEGIN:VTIMEZONE
TZID:UTC
BEGIN:STANDARD
TZOFFSETFROM:+0000
TZOFFSETTO:+0000
TZNAME:UTC
DTSTART:20240101T000000
END:STANDARD
END:VTIMEZONE
BEGIN:VEVENT
DTSTART;VALUE=DATE:20250411
DTEND;VALUE=DATE:20250414
DTSTAMP:20260421T084410
CREATED:20241031T020158Z
LAST-MODIFIED:20250122T081515Z
UID:1501-1744329600-1744588799@bartramtrailsociety.com
SUMMARY:Bartram Frolic 2025
DESCRIPTION:Bartram Frolic Page will be updated soon…
URL:https://bartramtrailsociety.com/event/bartram-frolic-2025/
LOCATION:FL
END:VEVENT
END:VCALENDAR