BEGIN:VCALENDAR
VERSION:2.0
PRODID:-//Bartram Trail Society of Florida - ECPv6.15.20//NONSGML v1.0//EN
CALSCALE:GREGORIAN
METHOD:PUBLISH
X-WR-CALNAME:Bartram Trail Society of Florida
X-ORIGINAL-URL:https://bartramtrailsociety.com
X-WR-CALDESC:Events for Bartram Trail Society of Florida
REFRESH-INTERVAL;VALUE=DURATION:PT1H
X-Robots-Tag:noindex
X-PUBLISHED-TTL:PT1H
BEGIN:VTIMEZONE
TZID:UTC
BEGIN:STANDARD
TZOFFSETFROM:+0000
TZOFFSETTO:+0000
TZNAME:UTC
DTSTART:20210101T000000
END:STANDARD
END:VTIMEZONE
BEGIN:VEVENT
DTSTART;TZID=UTC:20220519T183000
DTEND;TZID=UTC:20220519T193000
DTSTAMP:20260422T033147
CREATED:20220501T181442Z
LAST-MODIFIED:20220501T183407Z
UID:1121-1652985000-1652988600@bartramtrailsociety.com
SUMMARY:Friends of Paynes Prairie Presents: Speaker Series
DESCRIPTION:Paynes prairie visitor center\n100 Savannah Blvd\, Micanopy\, FL 32667 \nSam Carr is president of the Bartram Trail Society of Florida and past-president of the Bartram Trail Conference. His efforts include establishing Bartram National Recreation Trail in Putnam County highlighting the paths William Bartram detailed in his book TRAVELS. \nHe is currently working with Volusia\, Nassau\, St. Johns\, and Duval counties to establish Bartram Trails. The Bartram Trail Society of Florida works to establish public access recreational trails and related activities along the routes taken by William Bartram through Florida and to encourage the study\, preservation and interpretation of the William Bartram heritage. bartramtrailsociety.com \nBartram’s Alachua Savannah and the Bartram Trail PDF
URL:https://bartramtrailsociety.com/event/friends-of-paynes-prairie-presents-speaker-series/
LOCATION:Paynes Prairie Visitor Center\, 100 Savannah Blvd\, Micanopy\, FL\, 32667\, United States
ATTACH;FMTTYPE=image/jpeg:https://bartramtrailsociety.com/wp-content/uploads/2022/05/FOPP_SpeakerSeries_SamCarr.jpg
END:VEVENT
BEGIN:VEVENT
DTSTART;VALUE=DATE:20220422
DTEND;VALUE=DATE:20220425
DTSTAMP:20260422T033147
CREATED:20220128T084943Z
LAST-MODIFIED:20220128T085323Z
UID:671-1650585600-1650844799@bartramtrailsociety.com
SUMMARY:2022 Frolic
DESCRIPTION:
URL:https://bartramtrailsociety.com/event/2022-frolic/
LOCATION:Putnam County
ATTACH;FMTTYPE=image/jpeg:https://bartramtrailsociety.com/wp-content/uploads/2022/01/2022-Frolic-Flyer.jpg
END:VEVENT
END:VCALENDAR