BEGIN:VCALENDAR
VERSION:2.0
PRODID:-//Bartram Trail Society of Florida - ECPv6.15.20//NONSGML v1.0//EN
CALSCALE:GREGORIAN
METHOD:PUBLISH
X-ORIGINAL-URL:https://bartramtrailsociety.com
X-WR-CALDESC:Events for Bartram Trail Society of Florida
REFRESH-INTERVAL;VALUE=DURATION:PT1H
X-Robots-Tag:noindex
X-PUBLISHED-TTL:PT1H
BEGIN:VTIMEZONE
TZID:UTC
BEGIN:STANDARD
TZOFFSETFROM:+0000
TZOFFSETTO:+0000
TZNAME:UTC
DTSTART:20240101T000000
END:STANDARD
END:VTIMEZONE
BEGIN:VEVENT
DTSTART;VALUE=DATE:20250207
DTEND;VALUE=DATE:20250210
DTSTAMP:20260421T174208
CREATED:20250122T075540Z
LAST-MODIFIED:20250122T075540Z
UID:1574-1738886400-1739145599@bartramtrailsociety.com
SUMMARY:Florida Trail Fest 2025
DESCRIPTION:
URL:https://bartramtrailsociety.com/event/florida-trail-fest-2025/
LOCATION:White Springs\, FL\, White Springs\, FL\, United States
END:VEVENT
END:VCALENDAR